BEGIN:VCALENDAR
VERSION:2.0
PRODID:-//TYPO3/NONSGML News system (news)//EN
BEGIN:VEVENT
UID:news-1041@www.intosai.org
DTSTAMP:20220913T124128Z
DTSTART:20221014

SUMMARY:الاجتماع الثالث — مجموعة العمل المعنية بأهداف التنمية المستدامة وبالمؤشرات الرئيسية للتنمية المستدامة
DESCRIPTION:منظم: WGSDG KSDI\n\nمكان: اجتماع افتراضي\n\nVC duration – 12.00 – 14.00 UTC
LOCATION:اجتماع افتراضي

END:VEVENT
END:VCALENDAR
