BEGIN:VCALENDAR
VERSION:2.0
PRODID:-//TYPO3/NONSGML News system (news)//EN
BEGIN:VEVENT
UID:news-1156@www.intosai.org
DTSTAMP:20221017T083343Z
DTSTART:20221107
DTEND:20221112
SUMMARY:الإنكوساي 24 عام 2022 – الاجتماع 76 للمجلس التنفيذي للإنتوساي
DESCRIPTION:منظم: الإنتوساي\n\nمكان: ريو دي جانيرو، البرازيل\n\n\n جدول الأعمال والوثائق للاجتماع الـ76 للمجلس التنفيذي
(محمي بكلمة مرور - مقتصر على أعضاء الاجتماع الـ76 للمجلس التنفيذي)\n &amp;nbsp;


LOCATION:ريو دي جانيرو، البرازيل

END:VEVENT
END:VCALENDAR
