BEGIN:VCALENDAR
VERSION:2.0
PRODID:-//TYPO3/NONSGML News system (news)//EN
BEGIN:VEVENT
UID:news-1199@www.intosai.org
DTSTAMP:20220622T082608Z
DTSTART:20221025
DTEND:20221028
SUMMARY:الجمعية العمومية الرابعة عشر للأرابوساي
DESCRIPTION:منظم: ARABOSAI\n\nمكان: جدة، السعودية\n\n
LOCATION:جدة، السعودية

END:VEVENT
END:VCALENDAR
