BEGIN:VCALENDAR
VERSION:2.0
PRODID:-//TYPO3/NONSGML News system (news)//EN
BEGIN:VEVENT
UID:news-1200@www.intosai.org
DTSTAMP:20220704T110100Z
DTSTART:20221012
DTEND:20221014
SUMMARY:FAAS الاجتماع السنوي
DESCRIPTION:منظم: FAAS\n\nمكان: دبى، الامارات العربية المتحدة\n\nالاجتماع السنوي – اللجنة الفرعية المعنية بالرقابة المالية التقليدية والمحاسبة
LOCATION:دبى، الامارات العربية المتحدة

END:VEVENT
END:VCALENDAR
