BEGIN:VCALENDAR
VERSION:2.0
PRODID:-//TYPO3/NONSGML News system (news)//EN
BEGIN:VEVENT
UID:news-1280@www.intosai.org
DTSTAMP:20220927T152936Z
DTSTART:20221207
DTEND:20221209
SUMMARY:الاجتماع السنوي 3 و 1 الحلقة الدراسية السنوية – مجموعة العمل المعنية بتأثير العلوم والتكنولوجيا في الرقابة المالية
DESCRIPTION:منظم: WGISTA\n\nمكان: أبو ظبي، الإمارات العربية المتحدة \n\nBoth the events will be in-person and held at Abu Dhabi, UAE.
LOCATION:أبو ظبي، الإمارات العربية المتحدة 

END:VEVENT
END:VCALENDAR
