BEGIN:VCALENDAR
VERSION:2.0
PRODID:-//TYPO3/NONSGML News system (news)//EN
BEGIN:VEVENT
UID:news-1041@www.intosai.org
DTSTAMP:20220913T124128Z
DTSTART:20221014

SUMMARY:3. Treffen der Arbeitsgruppe SDGs und Schlüsselindikatoren für nachhaltige Entwicklung
DESCRIPTION:Organisator: WGSDG KSDI\n\nOrt: virtuelles Treffen\n\nVC duration – 12.00 – 14.00 UTC
LOCATION:virtuelles Treffen

END:VEVENT
END:VCALENDAR
