BEGIN:VCALENDAR
VERSION:2.0
PRODID:-//TYPO3/NONSGML News system (news)//EN
BEGIN:VEVENT
UID:news-1156@www.intosai.org
DTSTAMP:20221017T083343Z
DTSTART:20221107
DTEND:20221112
SUMMARY:XXIV. INCOSAI — 76.Tagung des Präsidiums der INTOSAI
DESCRIPTION:Organisator: INTOSAI\n\nOrt: Rio de Janeiro, Brasilien\n\n\n Tagesordnung und Dokumente für die 76. Tagung des Präsidiums
(passwortgeschützt — Zugang nur für die Teilnehmenden der 76. Tagung des Präsidiums)\n &amp;nbsp;


LOCATION:Rio de Janeiro, Brasilien

END:VEVENT
END:VCALENDAR
