BEGIN:VCALENDAR
VERSION:2.0
PRODID:-//TYPO3/NONSGML News system (news)//EN
BEGIN:VEVENT
UID:news-1199@www.intosai.org
DTSTAMP:20220622T082538Z
DTSTART:20221025
DTEND:20221028
SUMMARY:14. Generalversammlung der ARABOSAI
DESCRIPTION:Organisator: ARABOSAI\n\nOrt: Jeddah, Saudi-Arabien\n\n
LOCATION:Jeddah, Saudi-Arabien

END:VEVENT
END:VCALENDAR
