BEGIN:VCALENDAR
VERSION:2.0
PRODID:-//TYPO3/NONSGML News system (news)//EN
BEGIN:VEVENT
UID:news-1200@www.intosai.org
DTSTAMP:20220704T105732Z
DTSTART:20221012
DTEND:20221014
SUMMARY:FAAS Jahrestreffen
DESCRIPTION:Organisator: FAAS\n\nOrt: Dubai, Vereinigte Arabische Emirate\n\nJahrestreffen des Unterkomitee für die Prüfung der Rechnungsführung und für Rechnungswesen
LOCATION:Dubai, Vereinigte Arabische Emirate

END:VEVENT
END:VCALENDAR
