BEGIN:VCALENDAR
VERSION:2.0
PRODID:-//TYPO3/NONSGML News system (news)//EN
BEGIN:VEVENT
UID:news-1280@www.intosai.org
DTSTAMP:20220927T152018Z
DTSTART:20221207
DTEND:20221209
SUMMARY:3. Jahrestagung der Arbeitsgruppe zu Auswirkungen von Wissenschaft und Technologie auf das Prüfgeschehen und 1. jährliches Seminar
DESCRIPTION:Organisator: WGISTA\n\nOrt: Abu Dhabi, VAE\n\nBoth the events will be in-person and held at Abu Dhabi, UAE.
LOCATION:Abu Dhabi, VAE

END:VEVENT
END:VCALENDAR
