BEGIN:VCALENDAR
VERSION:2.0
PRODID:-//TYPO3/NONSGML News system (news)//EN
BEGIN:VEVENT
UID:news-1041@www.intosai.org
DTSTAMP:20220913T124128Z
DTSTART:20221014

SUMMARY:3a Reunión del Grupo de Trabajo sobre ODS y Indicadores Nacionales Clave para Desarrollo Sostenible
DESCRIPTION:Organizador: WGSDG KSDI\n\nLugar: reunión virtual\n\nVC duration – 12.00 – 14.00 UTC
LOCATION:reunión virtual

END:VEVENT
END:VCALENDAR
