BEGIN:VCALENDAR
VERSION:2.0
PRODID:-//TYPO3/NONSGML News system (news)//EN
BEGIN:VEVENT
UID:news-1156@www.intosai.org
DTSTAMP:20221017T083343Z
DTSTART:20221107
DTEND:20221112
SUMMARY:INCOSAI XXIV — 76a reunión del Comité Directivo de la INTOSAI
DESCRIPTION:Organizador: INTOSAI\n\nLugar: Río de Janeiro, Brasil\n\n\n Orden del día y documentos de la 76ª&amp;nbsp;reunión del Comité Directivo
(protegido por contraseña — restringido a los miembros de la 76ª&amp;nbsp;reunión del Comité Directivo)\n &amp;nbsp;


LOCATION:Río de Janeiro, Brasil

END:VEVENT
END:VCALENDAR
