BEGIN:VCALENDAR
VERSION:2.0
PRODID:-//TYPO3/NONSGML News system (news)//EN
BEGIN:VEVENT
UID:news-1199@www.intosai.org
DTSTAMP:20220622T082546Z
DTSTART:20221025
DTEND:20221028
SUMMARY:14ª Asamblea General de ARABOSAI
DESCRIPTION:Organizador: ARABOSAI\n\nLugar: Jeddah, Arabia Saudita\n\n
LOCATION:Jeddah, Arabia Saudita

END:VEVENT
END:VCALENDAR
