BEGIN:VCALENDAR
VERSION:2.0
PRODID:-//TYPO3/NONSGML News system (news)//EN
BEGIN:VEVENT
UID:news-1200@www.intosai.org
DTSTAMP:20220704T105823Z
DTSTART:20221012
DTEND:20221014
SUMMARY:Reunión anual de la FAAS
DESCRIPTION:Organizador: FAAS\n\nLugar: Dubai, Emiratos Árabes Unidos\n\nReunión anual del Sub-Comité de Auditoria Financiera y Contabilidad
LOCATION:Dubai, Emiratos Árabes Unidos

END:VEVENT
END:VCALENDAR
