BEGIN:VCALENDAR
VERSION:2.0
PRODID:-//TYPO3/NONSGML News system (news)//EN
BEGIN:VEVENT
UID:news-1280@www.intosai.org
DTSTAMP:20220927T152458Z
DTSTART:20221207
DTEND:20221209
SUMMARY:3a reunión anual del Grupo de Trabajo sobre el Impacto de la ciencia y la tecnología sobre las auditorias y 1er seminario anual
DESCRIPTION:Organizador: WGISTA\n\nLugar: Abu Dhabi, EAU\n\nBoth the events will be in-person and held at Abu Dhabi, UAE.
LOCATION:Abu Dhabi, EAU

END:VEVENT
END:VCALENDAR
