BEGIN:VCALENDAR
VERSION:2.0
PRODID:-//TYPO3/NONSGML News system (news)//EN
BEGIN:VEVENT
UID:news-1041@www.intosai.org
DTSTAMP:20220913T124128Z
DTSTART:20221014

SUMMARY:3ème Réunion du Groupe de travail sur les ODD et les indicateurs clés pour un développement durable
DESCRIPTION:organisateur: WGSDG KSDI\n\nlieu: réunion virtuelle\n\nVC duration – 12.00 – 14.00 UTC
LOCATION:réunion virtuelle

END:VEVENT
END:VCALENDAR
