BEGIN:VCALENDAR
VERSION:2.0
PRODID:-//TYPO3/NONSGML News system (news)//EN
BEGIN:VEVENT
UID:news-1156@www.intosai.org
DTSTAMP:20221017T083343Z
DTSTART:20221107
DTEND:20221112
SUMMARY:XXIVe INCOSAI — 76ème réunion du Comité directeur de l&#039;INTOSAI
DESCRIPTION:organisateur: INTOSAI\n\nlieu: Rio de Janeiro, Brésil\n\n\n Ordre du jour et documents pour la 76ème réunion du Comité directeur
(&amp;nbsp;protégé par mot de passe — accès réservé aux participants de la 76ème&amp;nbsp;réunion du Comité directeur&amp;nbsp;)\n &amp;nbsp;


LOCATION:Rio de Janeiro, Brésil

END:VEVENT
END:VCALENDAR
