BEGIN:VCALENDAR
VERSION:2.0
PRODID:-//TYPO3/NONSGML News system (news)//EN
BEGIN:VEVENT
UID:news-1199@www.intosai.org
DTSTAMP:20220622T082530Z
DTSTART:20221025
DTEND:20221028
SUMMARY:14ème Assemblée générale de l&#039;ARABOSAI
DESCRIPTION:organisateur: ARABOSAI\n\nlieu: Jeddah, Arabie Saoudite\n\n
LOCATION:Jeddah, Arabie Saoudite

END:VEVENT
END:VCALENDAR
