BEGIN:VCALENDAR
VERSION:2.0
PRODID:-//TYPO3/NONSGML News system (news)//EN
BEGIN:VEVENT
UID:news-1200@www.intosai.org
DTSTAMP:20220704T105758Z
DTSTART:20221012
DTEND:20221014
SUMMARY:Réunion annuelle de la FAAS
DESCRIPTION:organisateur: FAAS\n\nlieu: Dubaï, Émirats arabes unis\n\nRéunion annuelle du sous-commission pour l&#039;audit financier et la comptabilité
LOCATION:Dubaï, Émirats arabes unis

END:VEVENT
END:VCALENDAR
