BEGIN:VCALENDAR
VERSION:2.0
PRODID:-//TYPO3/NONSGML News system (news)//EN
BEGIN:VEVENT
UID:news-1280@www.intosai.org
DTSTAMP:20220927T152023Z
DTSTART:20221207
DTEND:20221209
SUMMARY:3e réunion annuelle du Groupe de travail sur les incidences de la science et de la technologie sur l&#039;audit et 1er séminaire annuel
DESCRIPTION:organisateur: WGISTA\n\nlieu: Abu Dhabi, EAU\n\nBoth the events will be in-person and held at Abu Dhabi, UAE.
LOCATION:Abu Dhabi, EAU

END:VEVENT
END:VCALENDAR
