BEGIN:VCALENDAR
VERSION:2.0
PRODID:-//TYPO3/NONSGML News system (news)//EN
BEGIN:VEVENT
UID:news-1002@www.intosai.org
DTSTAMP:20220208T084549Z
DTSTART:20220331

SUMMARY:IDI Board Meeting
DESCRIPTION:Organizer: IDI\n\nPlace: virtual meeting\n\n
LOCATION:virtual meeting

END:VEVENT
END:VCALENDAR
