BEGIN:VCALENDAR
VERSION:2.0
PRODID:-//TYPO3/NONSGML News system (news)//EN
BEGIN:VEVENT
UID:news-1011@www.intosai.org
DTSTAMP:20220511T090108Z
DTSTART:20220515
DTEND:20220520
SUMMARY:XII CAROSAI Congress
DESCRIPTION:Organizer: CAROSAI\n\nPlace: Oranjestad, Aruba (hybrid form)\n\n


Theme: Targeting Superior Audit Impact
 	Programme 	Flyer 
LOCATION:Oranjestad, Aruba (hybrid form)

END:VEVENT
END:VCALENDAR
