BEGIN:VCALENDAR
VERSION:2.0
PRODID:-//TYPO3/NONSGML News system (news)//EN
BEGIN:VEVENT
UID:news-1041@www.intosai.org
DTSTAMP:20220913T124128Z
DTSTART:20221014

SUMMARY:3rd Meeting of the Working Group on SDGs and Key Sustainable Development Indicators
DESCRIPTION:Organizer: WGSDG KSDI\n\nPlace: virtual meeting\n\nVC duration – 12.00 – 14.00 UTC
LOCATION:virtual meeting

END:VEVENT
END:VCALENDAR
