BEGIN:VCALENDAR
VERSION:2.0
PRODID:-//TYPO3/NONSGML News system (news)//EN
BEGIN:VEVENT
UID:news-1059@www.intosai.org
DTSTAMP:20220329T074945Z
DTSTART:20220512

SUMMARY:Meeting of the Working Group on Public Debt
DESCRIPTION:Organizer: WGPD\n\nPlace: virtual meeting\n\n
LOCATION:virtual meeting

END:VEVENT
END:VCALENDAR
