BEGIN:VCALENDAR
VERSION:2.0
PRODID:-//TYPO3/NONSGML News system (news)//EN
BEGIN:VEVENT
UID:news-1065@www.intosai.org
DTSTAMP:20220614T144149Z
DTSTART:20220921
DTEND:20220923
SUMMARY:57th EUROSAI Governing Board meeting
DESCRIPTION:Organizer: EUROSAI\n\nPlace: Lisbon, Portugal\n\n
LOCATION:Lisbon, Portugal

END:VEVENT
END:VCALENDAR
