BEGIN:VCALENDAR
VERSION:2.0
PRODID:-//TYPO3/NONSGML News system (news)//EN
BEGIN:VEVENT
UID:news-1073@www.intosai.org
DTSTAMP:20220303T110931Z
DTSTART:20220920

SUMMARY:CBC Steering Committee meeting
DESCRIPTION:Organizer: CBC\n\nPlace: virtual meeting\n\n13:00 — 15:30 CET
LOCATION:virtual meeting

END:VEVENT
END:VCALENDAR
