BEGIN:VCALENDAR
VERSION:2.0
PRODID:-//TYPO3/NONSGML News system (news)//EN
BEGIN:VEVENT
UID:news-1089@www.intosai.org
DTSTAMP:20220310T134513Z
DTSTART:20220928

SUMMARY:19th Meeting of the Policy, Finance and Administration Committee
DESCRIPTION:Organizer: PFAC\n\nPlace: virtual meeting\n\n
LOCATION:virtual meeting

END:VEVENT
END:VCALENDAR
