BEGIN:VCALENDAR
VERSION:2.0
PRODID:-//TYPO3/NONSGML News system (news)//EN
BEGIN:VEVENT
UID:news-109@www.intosai.org
DTSTAMP:20200923T123352Z
DTSTART:20200311
DTEND:20200417
SUMMARY:13th FIPP Meeting – teleconferences – 3 sessions March-April 2020
DESCRIPTION:Organizer: FIPP\n\nPlace: virtual meeting\n\n3 sessions (11 March / 2 April / 16 April 2020)
Minutes
LOCATION:virtual meeting

END:VEVENT
END:VCALENDAR
