BEGIN:VCALENDAR
VERSION:2.0
PRODID:-//TYPO3/NONSGML News system (news)//EN
BEGIN:VEVENT
UID:news-1096@www.intosai.org
DTSTAMP:20220323T090244Z
DTSTART:20220422
DTEND:20220429
SUMMARY:FIPP Meetings – April 2022
DESCRIPTION:Organizer: FIPP\n\nPlace: virtual meetings\n\nMeetings of the Forum for INTOSAI Professional Pronouncements (FIPP)
April-meetings:
 	22 April 2022 	26 April 2022 	28 April 2022 


LOCATION:virtual meetings

END:VEVENT
END:VCALENDAR
