BEGIN:VCALENDAR
VERSION:2.0
PRODID:-//TYPO3/NONSGML News system (news)//EN
BEGIN:VEVENT
UID:news-1102@www.intosai.org
DTSTAMP:20220323T092731Z
DTSTART:20220607
DTEND:20220615
SUMMARY:FIPP Meetings – June 2022
DESCRIPTION:Organizer: FIPP\n\nPlace: virtual meetings\n\nMeetings of the Forum for INTOSAI Professional Pronouncements (FIPP)
June-meetings:
 	7 June 2022 	9 June 2022 	14 June 2022 


LOCATION:virtual meetings

END:VEVENT
END:VCALENDAR
