BEGIN:VCALENDAR
VERSION:2.0
PRODID:-//TYPO3/NONSGML News system (news)//EN
BEGIN:VEVENT
UID:news-1108@www.intosai.org
DTSTAMP:20220704T092547Z
DTSTART:20220905
DTEND:20220910
SUMMARY:FIPP Meeting – September 2022
DESCRIPTION:Organizer: FIPP\n\nPlace: Copenhagen, Denmark\n\n
LOCATION:Copenhagen, Denmark

END:VEVENT
END:VCALENDAR
