BEGIN:VCALENDAR
VERSION:2.0
PRODID:-//TYPO3/NONSGML News system (news)//EN
BEGIN:VEVENT
UID:news-1114@www.intosai.org
DTSTAMP:20220330T080515Z
DTSTART:20220912
DTEND:20220916
SUMMARY:5th Young EUROSAI (YES) Conference
DESCRIPTION:Organizer: EUROSAI\n\nPlace: Stockholm, Sweden\n\n
LOCATION:Stockholm, Sweden

END:VEVENT
END:VCALENDAR
