BEGIN:VCALENDAR
VERSION:2.0
PRODID:-//TYPO3/NONSGML News system (news)//EN
BEGIN:VEVENT
UID:news-1120@www.intosai.org
DTSTAMP:20220401T095902Z
DTSTART:20220926
DTEND:20220929
SUMMARY:Meeting of the Working Group on Evaluation of Public Policies and Programs
DESCRIPTION:Organizer: WGEPPP\n\nPlace: Bern, Switzerland\n\n
LOCATION:Bern, Switzerland

END:VEVENT
END:VCALENDAR
