BEGIN:VCALENDAR
VERSION:2.0
PRODID:-//TYPO3/NONSGML News system (news)//EN
BEGIN:VEVENT
UID:news-1126@www.intosai.org
DTSTAMP:20220405T074052Z
DTSTART:20220511

SUMMARY:15th Meeting of the Working Group on the Fight Against Corruption and Money Laundering
DESCRIPTION:Organizer: WGFACML\n\nPlace: virtual meeting\n\n
LOCATION:virtual meeting

END:VEVENT
END:VCALENDAR
