BEGIN:VCALENDAR
VERSION:2.0
PRODID:-//TYPO3/NONSGML News system (news)//EN
BEGIN:VEVENT
UID:news-1138@www.intosai.org
DTSTAMP:20220419T084027Z
DTSTART:20220531
DTEND:20220603
SUMMARY:Meeting of the INTOSAI-Regions Coordination Platform (IRCP) &amp; IDI SP Focus Group
DESCRIPTION:Organizer: IDI\n\nPlace: Oslo, Norway\n\n 	31/05/22 – 01/06/22\n 	IRCP Meeting 	02/06/22\n 	IDI Focus Group 
LOCATION:Oslo, Norway

END:VEVENT
END:VCALENDAR
