BEGIN:VCALENDAR
VERSION:2.0
PRODID:-//TYPO3/NONSGML News system (news)//EN
BEGIN:VEVENT
UID:news-114@www.intosai.org
DTSTAMP:20211221T084219Z
DTSTART:20220608
DTEND:20220610
SUMMARY:13th Meeting of the Performance Audit Subcommittee
DESCRIPTION:Organizer: PAS\n\nPlace: London, United Kingdom\n\n
LOCATION:London, United Kingdom

END:VEVENT
END:VCALENDAR
