BEGIN:VCALENDAR
VERSION:2.0
PRODID:-//TYPO3/NONSGML News system (news)//EN
BEGIN:VEVENT
UID:news-1144@www.intosai.org
DTSTAMP:20220420T131250Z
DTSTART:20220522
DTEND:20220525
SUMMARY:EUROSAI Post-Congress Get-Together
DESCRIPTION:Organizer: EUROSAI\n\nPlace: Prague, Czech Republic\n\n 	PRAGUE POST-CONGRESS 2022 
LOCATION:Prague, Czech Republic

END:VEVENT
END:VCALENDAR
