BEGIN:VCALENDAR
VERSION:2.0
PRODID:-//TYPO3/NONSGML News system (news)//EN
BEGIN:VEVENT
UID:news-1156@www.intosai.org
DTSTAMP:20221017T083343Z
DTSTART:20221107
DTEND:20221112
SUMMARY:XXIV INCOSAI — 76th Meeting of the Governing Board of INTOSAI
DESCRIPTION:Organizer: INTOSAI\n\nPlace: Rio de Janeiro, Brazil\n\n\n Agenda and Documents for the 76th Meeting of the Governing Board
(password protected — restricted to the members of the 76th Meeting of the Governing Board)\n &amp;nbsp;


LOCATION:Rio de Janeiro, Brazil

END:VEVENT
END:VCALENDAR
