BEGIN:VCALENDAR
VERSION:2.0
PRODID:-//TYPO3/NONSGML News system (news)//EN
BEGIN:VEVENT
UID:news-1168@www.intosai.org
DTSTAMP:20220504T091842Z
DTSTART:20220926
DTEND:20220928
SUMMARY:PSC – 19th Meeting of the Steering Committee
DESCRIPTION:Organizer: PSC SC\n\nPlace: Luxembourg\n\n
LOCATION:Luxembourg

END:VEVENT
END:VCALENDAR
