BEGIN:VCALENDAR
VERSION:2.0
PRODID:-//TYPO3/NONSGML News system (news)//EN
BEGIN:VEVENT
UID:news-1179@www.intosai.org
DTSTAMP:20220530T102409Z
DTSTART:20220630

SUMMARY:Webinar — &quot;Adopting Digital Mindset in Auditing and Fighting Corruption&quot;
DESCRIPTION:Organizer: WGISTA\n\nPlace: virtual meeting\n\nINTOSAI Working Group on Impact of Science and Technology on Auditing (WGISTA)
LOCATION:virtual meeting

END:VEVENT
END:VCALENDAR
