BEGIN:VCALENDAR
VERSION:2.0
PRODID:-//TYPO3/NONSGML News system (news)//EN
BEGIN:VEVENT
UID:news-1187@www.intosai.org
DTSTAMP:20220722T110433Z
DTSTART:20220912
DTEND:20220915
SUMMARY:14th Meeting of the KSC Steering Committee
DESCRIPTION:Organizer: KSC\n\nPlace: Egypt\n\nAgenda
LOCATION:Egypt

END:VEVENT
END:VCALENDAR
