BEGIN:VCALENDAR
VERSION:2.0
PRODID:-//TYPO3/NONSGML News system (news)//EN
BEGIN:VEVENT
UID:news-1193@www.intosai.org
DTSTAMP:20220603T120351Z
DTSTART:20220804
DTEND:20220806
SUMMARY:19th meeting of the Compliance Audit Subcommittee
DESCRIPTION:Organizer: CAS\n\nPlace: India\n\n
LOCATION:India

END:VEVENT
END:VCALENDAR
