BEGIN:VCALENDAR
VERSION:2.0
PRODID:-//TYPO3/NONSGML News system (news)//EN
BEGIN:VEVENT
UID:news-1199@www.intosai.org
DTSTAMP:20220622T082520Z
DTSTART:20221025
DTEND:20221028
SUMMARY:14th ARABOSAI General Assembly
DESCRIPTION:Organizer: ARABOSAI\n\nPlace: Jeddah, Saudi Arabia\n\n
LOCATION:Jeddah, Saudi Arabia

END:VEVENT
END:VCALENDAR
