BEGIN:VCALENDAR
VERSION:2.0
PRODID:-//TYPO3/NONSGML News system (news)//EN
BEGIN:VEVENT
UID:news-1200@www.intosai.org
DTSTAMP:20220704T105706Z
DTSTART:20221012
DTEND:20221014
SUMMARY:FAAS annual meeting
DESCRIPTION:Organizer: FAAS\n\nPlace: Dubai, United Arab Emirates\n\nAnnual meeting of the Financial Audit and Accounting Subcommittee
LOCATION:Dubai, United Arab Emirates

END:VEVENT
END:VCALENDAR
