BEGIN:VCALENDAR
VERSION:2.0
PRODID:-//TYPO3/NONSGML News system (news)//EN
BEGIN:VEVENT
UID:news-1215@www.intosai.org
DTSTAMP:20220613T095245Z
DTSTART:20220704
DTEND:20220707
SUMMARY:21st Meeting of the INTOSAI Working Group on Environmental Auditing
DESCRIPTION:Organizer: WGEA\n\nPlace: Ukulhas, Maldives\n\nThe Assembly will be arranged in a hybrid format for the first time.
21st INTOSAI WGEA Assembly
LOCATION:Ukulhas, Maldives

END:VEVENT
END:VCALENDAR
