BEGIN:VCALENDAR
VERSION:2.0
PRODID:-//TYPO3/NONSGML News system (news)//EN
BEGIN:VEVENT
UID:news-1226@www.intosai.org
DTSTAMP:20220615T081831Z
DTSTART:20220920
DTEND:20220925
SUMMARY:XXXI OLACEFS General Assembly
DESCRIPTION:Organizer: OLACEFS\n\nPlace: Oaxaca de Juárez, Mexico\n\n
LOCATION:Oaxaca de Juárez, Mexico

END:VEVENT
END:VCALENDAR
