BEGIN:VCALENDAR
VERSION:2.0
PRODID:-//TYPO3/NONSGML News system (news)//EN
BEGIN:VEVENT
UID:news-1238@www.intosai.org
DTSTAMP:20220627T114703Z
DTSTART:20220715

SUMMARY:INTOSAI Side Event — UN HLFP in July 2022
DESCRIPTION:Organizer: INTOSAI\n\nPlace: New York and virtual\n\nHLPF Side Event 
&quot;Accelerating implementation of the 2030 Agenda – The contribution of Supreme Audit Institutions&quot;
Organised by the Permanent Mission of Austria, the Permanent Mission of Indonesia, the INTOSAI General Secretariat, INTOSAI Development Initiative and the INTOSAI Working Group on Environmental Auditing
15 July 2022, at 1:00 pm&amp;nbsp; – 2:30 pm (ET)
LOCATION:New York and virtual

END:VEVENT
END:VCALENDAR
