BEGIN:VCALENDAR
VERSION:2.0
PRODID:-//TYPO3/NONSGML News system (news)//EN
BEGIN:VEVENT
UID:news-1239@www.intosai.org
DTSTAMP:20220704T092602Z
DTSTART:20220831

SUMMARY:14th Meeting of the Working Group on Value and Benefits of SAIs
DESCRIPTION:Organizer: WGVBS\n\nPlace: virtual meeting\n\nfrom 12:00 to 13:30 (UTC Time)
LOCATION:virtual meeting

END:VEVENT
END:VCALENDAR
