BEGIN:VCALENDAR
VERSION:2.0
PRODID:-//TYPO3/NONSGML News system (news)//EN
BEGIN:VEVENT
UID:news-1262@www.intosai.org
DTSTAMP:20220816T094416Z
DTSTART:20220927

SUMMARY:15th INTOSAI–Donor Cooperation Steering Committee
DESCRIPTION:Organizer: IDSC\n\nPlace: virtual meeting\n\nTime: 10:00 am to 12 noon CET/Oslo
LOCATION:virtual meeting

END:VEVENT
END:VCALENDAR
