BEGIN:VCALENDAR
VERSION:2.0
PRODID:-//TYPO3/NONSGML News system (news)//EN
BEGIN:VEVENT
UID:news-1280@www.intosai.org
DTSTAMP:20220927T151731Z
DTSTART:20221207
DTEND:20221209
SUMMARY:3rd Annual Meeting of the Working Group on Impact of Science and Technology on Auditing and 1st Annual Seminar
DESCRIPTION:Organizer: WGISTA\n\nPlace: Abu Dhabi, UAE\n\n
Both the events will be in-person and held at Abu Dhabi, UAE.
LOCATION:Abu Dhabi, UAE

END:VEVENT
END:VCALENDAR
